BEGIN:VCALENDAR
VERSION:2.0
PRODID:-//Baobab entrepreneur - ECPv6.15.12.2//NONSGML v1.0//EN
CALSCALE:GREGORIAN
METHOD:PUBLISH
X-ORIGINAL-URL:https://baobabentrepreneur.com
X-WR-CALDESC:Events for Baobab entrepreneur
REFRESH-INTERVAL;VALUE=DURATION:PT1H
X-Robots-Tag:noindex
X-PUBLISHED-TTL:PT1H
BEGIN:VTIMEZONE
TZID:UTC
BEGIN:STANDARD
TZOFFSETFROM:+0000
TZOFFSETTO:+0000
TZNAME:UTC
DTSTART:20200101T000000
END:STANDARD
END:VTIMEZONE
BEGIN:VEVENT
DTSTART;TZID=UTC:20210917T010000
DTEND;TZID=UTC:20210917T023000
DTSTAMP:20260424T183910
CREATED:20210913T062142Z
LAST-MODIFIED:20210913T062543Z
UID:425-1631840400-1631845800@baobabentrepreneur.com
SUMMARY:AmaliTech presents Women Talk Tech webinar
DESCRIPTION:Industries around the world are rapidly evolving to embrace digital innovations\, and you should\, too! Which questions have you been wanting to ask to consider starting a career in the tech world or becoming a STEM woman? \n\n\n\n Join us on Friday\, 17th September 2021 as top industry women interact with us and share their experiences.Register for the webinar  here
URL:https://baobabentrepreneur.com/event/women-talk-tech-webinar/
LOCATION:Online\, everywhere\, 233
CATEGORIES:Training Event
ATTACH;FMTTYPE=image/jpeg:https://baobabentrepreneur.com/wp-content/uploads/2021/09/baobab-entreprenur-event-e1631774094751.jpg
END:VEVENT
BEGIN:VEVENT
DTSTART;TZID=UTC:20210916T210000
DTEND;TZID=UTC:20210916T220000
DTSTAMP:20260424T183910
CREATED:20210908T103014Z
LAST-MODIFIED:20210916T063304Z
UID:353-1631826000-1631829600@baobabentrepreneur.com
SUMMARY:Entrepreneurship Webinar on Communication
DESCRIPTION:About\nCommunication is an essential skill in business development. This webinar educates entrepreneurs on how to improve their communication skills and share their ideas effectively with their colleagues\, clients\, and society in general. \n \n\nThu\, Sep 16\, 2021\, 9:00 PM – 10:00 PM (your local time)\n\n \n\nSource: WestlionCo
URL:https://baobabentrepreneur.com/event/entrepreneurship-webinar/
LOCATION:online event\, 233\, Ghana
CATEGORIES:Training Event
ATTACH;FMTTYPE=image/png:https://baobabentrepreneur.com/wp-content/uploads/2021/09/ente.png
END:VEVENT
BEGIN:VEVENT
DTSTART;TZID=UTC:20210915T090000
DTEND;TZID=UTC:20210917T150000
DTSTAMP:20260424T183910
CREATED:20210825T044748Z
LAST-MODIFIED:20210916T062906Z
UID:238-1631696400-1631890800@baobabentrepreneur.com
SUMMARY:Makeup and CV Writing Masterclass
DESCRIPTION:Women Advocacy Network \nRegister here  to join our free one-week  Makeup and CV Writing Masterclass in September. \nNB: Makeup Kits go for GHS 230 only. \nFor more information and Partnership contact 0204693238 \nCheck the attached flyer for all other information…#wanhiveimpacts #womenentrepreneurs
URL:https://baobabentrepreneur.com/event/makeup-and-cv-writing-masterclass/
CATEGORIES:Training Event
ATTACH;FMTTYPE=image/jpeg:https://baobabentrepreneur.com/wp-content/uploads/2021/08/240255507_1177682186085785_2109124870486812004_n.jpg
END:VEVENT
BEGIN:VEVENT
DTSTART;VALUE=DATE:20210828
DTEND;VALUE=DATE:20210829
DTSTAMP:20260424T183910
CREATED:20210824T160933Z
LAST-MODIFIED:20210824T163532Z
UID:207-1630108800-1630195199@baobabentrepreneur.com
SUMMARY:IoT Meetup is Here Again! 
DESCRIPTION:IoT Meetup is Here Again! \nTheme: Reimagining The Future of Automations: Humanoids\, Robotics\, and Drones! \nDate: 28th August 2021. \nTime:\n12 PM – 2 PM GMT.\n3 PM – 5 PM EAT. \nRegistration: https://bit.ly/3xSVvw1 \nRobotics Technology Trends 2021: https://youtu.be/fXob5ru8BJg \nIoT Network Hub\, The Community of The Future! \nPlease Join & Share! \n#IoTNetworkHub\n#IoTMeetup\n#LearnShareBuild\n#IoTAfrica
URL:https://baobabentrepreneur.com/event/iot-meetup-is-here-again/
LOCATION:Online\, everywhere\, 233
CATEGORIES:Training Event
ATTACH;FMTTYPE=image/jpeg:https://baobabentrepreneur.com/wp-content/uploads/2023/02/iot-meetup-is-here-again.jpg
END:VEVENT
BEGIN:VEVENT
DTSTART;VALUE=DATE:20210827
DTEND;VALUE=DATE:20210828
DTSTAMP:20260424T183910
CREATED:20210824T195001Z
LAST-MODIFIED:20210824T195433Z
UID:233-1630022400-1630108799@baobabentrepreneur.com
SUMMARY:Startup Meetup
DESCRIPTION:Networking is a personal skill that is essential for business people\, particularly startups and entrepreneurs. \nKumasi Hive is organizing a Movie session for startups within Kumasi to come and network\, build relationships and learn from one another. \nYou are warmly invited to the meetup.  Apply here  \n#HiveImpact #HiveTraining #HiveStartup #Networking \n#KumasiStartup #Meetup #entrepreneurs  #BussinessCommunity
URL:https://baobabentrepreneur.com/event/startup-meetup/
CATEGORIES:Training Event
ATTACH;FMTTYPE=image/jpeg:https://baobabentrepreneur.com/wp-content/uploads/2021/08/BaobabEntrepreneu-new-ksi.jpg
END:VEVENT
BEGIN:VEVENT
DTSTART;VALUE=DATE:20210827
DTEND;VALUE=DATE:20210828
DTSTAMP:20260424T183910
CREATED:20210824T162947Z
LAST-MODIFIED:20210824T163429Z
UID:213-1630022400-1630108799@baobabentrepreneur.com
SUMMARY:National Acceleration Fireside Chat
DESCRIPTION:Are you a startup and wondering how to raise startup capital for your business?\nDo you have unanswered questions on what investors look out for in startups?\n\n\nJoin Dominic Owusu Ansah\, the access to finance advisor for IIA\, on the 27th of August 2021 as he shares how to raise your first or next round of funding.\n\n\nRegister here: investment.ghanatechlab.com\n\n\n#investornetwork\n#investment\n#raisinginvestment\n\n\nMastercard Foundation Young Africa Works World Bank Ministry of Communications and Digitalisation Ghana Invest in Africa
URL:https://baobabentrepreneur.com/event/national-acceleration-program-2/
LOCATION:Ghana Tech Lap\, 233\, Ghana
CATEGORIES:Training Event
ATTACH;FMTTYPE=image/jpeg:https://baobabentrepreneur.com/wp-content/uploads/2021/08/BaobabEntrepreneu-news.jpg
END:VEVENT
BEGIN:VEVENT
DTSTART;TZID=UTC:20210826T120000
DTEND;TZID=UTC:20210826T120000
DTSTAMP:20260424T183910
CREATED:20210824T063924Z
LAST-MODIFIED:20210916T064001Z
UID:171-1629979200-1629979200@baobabentrepreneur.com
SUMMARY:National Acceleration Program
DESCRIPTION:Ghana Tech lab is given an opportunity to all hubs in Ghana to take part in their National Acceleration Program\n\nDo you have what it takes to scale startups in Ghana?\n\nApply to be part of our National Acceleration Program\n\nFind Out More: \n\nDeadline: August 26\, 2021\n\n#NAPGhana\n#NationalAcceleratorProgram\n#NationalAccelerationProgram\n#Accelerator\n\nMastercard FoundationYoung Africa WorksWorld BankMinistry of Communications and Digitalisation Ghana
URL:https://baobabentrepreneur.com/event/national-acceleration-program/
LOCATION:Ghana Tech Lap\, 233\, Ghana
CATEGORIES:Training Event
ATTACH;FMTTYPE=image/jpeg:https://baobabentrepreneur.com/wp-content/uploads/2021/08/EET.jpg
END:VEVENT
BEGIN:VEVENT
DTSTART;VALUE=DATE:20210826
DTEND;VALUE=DATE:20210827
DTSTAMP:20260424T183910
CREATED:20210824T135708Z
LAST-MODIFIED:20210916T063914Z
UID:203-1629936000-1630022399@baobabentrepreneur.com
SUMMARY:SBcorporate
DESCRIPTION:Corporate governance is seen as an essential building block of stable businesses. It helps to protect the rights and interests of shareholders and\, increasingly\, those of other stakeholders\, providing a framework for effective monitoring of management actions and performance for better business results.\n\nCorporate Health Assessments are extremely important for businesses. It enables businesses to establish a picture of their workforce using clear and objective data.\n\nJoin us on Thursday 26th August 2021 at 11:00 am as we discuss the topic: “Comprehensive Corporate Health Assessment”\n\nRegister here 
URL:https://baobabentrepreneur.com/event/sbcorporate/
CATEGORIES:Training Event
ATTACH;FMTTYPE=image/jpeg:https://baobabentrepreneur.com/wp-content/uploads/2021/08/WhatsApp-Image-2021-08-24-at-8.23.48-AM.jpeg
END:VEVENT
END:VCALENDAR